Workbook

Sheet Raspodjela
A1: Prezime studenta | B1: Ime studenta | C1: Vježbovna skupina | D1: Seminarska skupina | E1: Napomena
A2: Aljinović | B2: Megi | C2: V1 | D2: S1
A3: Bajić | B3: Mia Marija | C3: V1 | D3: S1
A4: Bajramagić | B4: Mia | C4: V1 | D4: S1
A5: Bakotić | B5: Dorotea | D5: S1 | E5: student nije obvezan pohađati vježbe
A6: Baković | B6: Mia | C6: V1 | D6: S1
A7: Baković | B7: Nina | C7: V1 | D7: S1
A8: Barišić | B8: Mia | C8: V1 | D8: S1
A9: Batarelo | B9: Magdalena | C9: V1 | D9: S1
A10: Bilota | B10: Manuela | C10: V1 | D10: S1
A11: Birin | B11: Kristina | C11: V1 | D11: S1
A12: Bočina | B12: Marta | C12: V1 | D12: S1
A13: Bošković | B13: Petra | C13: V1 | D13: S1
A14: Bračulj | B14: Hanna | C14: V1 | D14: S1
A15: Bulat | B15: Korina Matea | C15: V2 | D15: S1
A16: Buljan | B16: Ivana | D16: S2 | E16: student nije obvezan pohađati vježbe
A17: Burić | B17: Antonio | C17: V2 | D17: S1
A18: Cenci | B18: Violetta | C18: V2 | D18: S1
A19: Cvitković | B19: Beata | C19: V2 | D19: S1
A20: Čotić Franić | B20: Iva Rahela | C20: V2 | D20: S1
A21: Čulić | B21: Jelena | C21: V2 | D21: S1
A22: Dimzov | B22: Damjan | C22: V2 | D22: S1
A23: Dukić | B23: Andro | C23: V2 | D23: S1
A24: Đurić | B24: Marjeta | D24: S2 | E24: student nije obvezan pohađati vježbe
A25: Erceg | B25: Hana | C25: V2 | D25: S1
A26: Furjanić | B26: Ana | D26: S3 | E26: student nije obvezan pohađati vježbe
A27: Gašpić | B27: Lucija | C27: V2 | D27: S1
A28: Gekić | B28: Max | C28: V2 | D28: S1
A29: Gijevski | B29: Mia | C29: V3 | D29: S1
A30: Gotovac | B30: Leona | C30: V3 | D30: S1
A31: Grančić | B31: Anastazia | C31: V3 | D31: S1
A32: Grgić | B32: Mladen | C32: V3 | D32: S1
A33: Gudelj | B33: Ana | C33: V3 | D33: S1
A34: Gudelj | B34: Ivan | D34: S3 | E34: student nije obvezan pohađati vježbe
A35: Gulan | B35: Luka | C35: V3 | D35: S1
A36: Jakovac | B36: Tea | C36: V3 | D36: S1
A37: Jerković | B37: Dora | D37: S3 | E37: student nije obvezan pohađati vježbe
A38: Jović | B38: Tea Tomislava | C38: V3 | D38: S1
A39: Jukić | B39: Antea | C39: V3 | D39: S1
A40: Jukić | B40: Lucija | D40: S3 | E40: student nije obvezan pohađati vježbe
A41: Jurić | B41: Dora | D41: S3 | E41: student nije obvezan pohađati vježbe
A42: Jurković | B42: Antonijo | C42: V3 | D42: S1
A43: Karin | B43: Mario | C43: V3 | D43: S1
A44: Kerum | B44: Ante | C44: V4 | D44: S2
A45: Kljaković Gašpić | B45: Karla | C45: V4 | D45: S2
A46: Kodelja | B46: Noemi | C46: V4 | D46: S2
A47: Kožica | B47: Anamarija | C47: V4 | D47: S2
A48: Krešić | B48: Kiara | C48: V4 | D48: S2
A49: Krivić | B49: Martina | C49: V4 | D49: S2
A50: Kurtić | B50: Ena | C50: V4 | D50: S2
A51: Kustura | B51: Laura | C51: V4 | D51: S2
A52: Ladan | B52: Paula | C52: V4 | D52: S2
A53: Landeka | B53: Lana | C53: V4 | D53: S2
A54: Lažeta | B54: Iva | D54: S3 | E54: student nije obvezan pohađati vježbe
A55: Leko | B55: Klara | C55: V4 | D55: S2
A56: Lončar | B56: Stela | C56: V5 | D56: S2
A57: Lovrić | B57: Duje Ivan | C57: V5 | D57: S2
A58: Lovrić | B58: Iva | C58: V5 | D58: S2
A59: Majić | B59: Ružica | C59: V5 | D59: S2
A60: Marijačić | B60: Antea | C60: V5 | D60: S2
A61: Marković | B61: Jelena | C61: V5 | D61: S2
A62: Martinović | B62: Rino | C62: V5 | D62: S2
A63: Matas | B63: Filip | C63: V5 | D63: S2
A64: Mateljan | B64: Ana | D64: S3 | E64: student nije obvezan pohađati vježbe
A65: Mateljan | B65: Josip | C65: V5 | D65: S2
A66: Matić | B66: Ani | C66: V5 | D66: S2
A67: Matijašević | B67: Petra | C67: V5 | D67: S2
A68: Matković | B68: Meri | C68: V6 | D68: S2
A69: Matutinović | B69: Ivan | C69: V6 | D69: S2
A70: Medić | B70: Lucija | C70: V6 | D70: S2
A71: Mesar | B71: Laura | C71: V6 | D71: S2
A72: Milardović | B72: Iva | C72: V6 | D72: S2
A73: Mišić | B73: Andrija | C73: V6 | D73: S2
A74: Munivrana | B74: Leamaria | C74: V6 | D74: S2
A75: Nižić | B75: Ivona | C75: V6 | D75: S2
A76: Omrčen | B76: Luka | C76: V6 | D76: S2
A77: Oreč | B77: Filip | D77: S3 | E77: student nije obvezan pohađati vježbe
A78: Parčina | B78: Helena | C78: V6 | D78: S2
A79: Perić | B79: Maja | C79: V6 | D79: S2
A80: Pervan | B80: Sara | C80: V7 | D80: S3
A81: Petković | B81: Brigita | C81: V7 | D81: S3
A82: Prokš | B82: Leona | C82: V7 | D82: S3
A83: Puljić | B83: Sunčica | C83: V7 | D83: S3
A84: Radić | B84: Martina | C84: V7 | D84: S3
A85: Radiković | B85: Mirta | C85: V7 | D85: S3
A86: Reljanović | B86: Katija | C86: V7 | D86: S3
A87: Ribić | B87: Simona | C87: V7 | D87: S3
A88: Sente | B88: Lada | D88: S3 | E88: student nije obvezan pohađati vježbe
A89: Stipanović | B89: Ante | C89: V7 | D89: S3
A90: Šare | B90: Helena | C90: V7 | D90: S3
A91: Šarić | B91: Toma | C91: V7 | D91: S3
A92: Šeparović | B92: Nina | C92: V8 | D92: S3
A93: Šerić | B93: Lucija | C93: V8 | D93: S3
A94: Šimić | B94: Jana | C94: V8 | D94: S3
A95: Škorić | B95: Nika | D95: S3 | E95: student nije obvezan pohađati vježbe
A96: Štrljić | B96: Maroje | C96: V8 | D96: S3
A97: Šuljak | B97: Matea | D97: S3 | E97: student nije obvezan pohađati vježbe
A98: Šutić | B98: Lara | C98: V8 | D98: S3
A99: Tadić | B99: Ana | C99: V8 | D99: S3
A100: Talajić | B100: Natali | C100: V8 | D100: S3
...

Sheet Sažetak
A1: Seminarska skupina | B1: Vježbovne skupine u njoj | C1: Studenata s vježbama | D1: Nije obvezan na vježbe | E1: Ukupno
A2: S1 | B2: V1, V2, V3 | C2: =COUNTIFS(Raspodjela!$D$2:$D$105,"S1",Raspodjela!$C$2:$C$105,"<>") -> 34 | D2: =COUNTIFS(Raspodjela!$D$2:$D$105,"S1",Raspodjela!$E$2:$E$105,"student nije obvezan pohađati vježbe") -> 1 | E2: =C2+D2 -> 35
A3: S2 | B3: V4, V5, V6 | C3: =COUNTIFS(Raspodjela!$D$2:$D$105,"S2",Raspodjela!$C$2:$C$105,"<>") -> 33 | D3: =COUNTIFS(Raspodjela!$D$2:$D$105,"S2",Raspodjela!$E$2:$E$105,"student nije obvezan pohađati vježbe") -> 2 | E3: =C3+D3 -> 35
A4: S3 | B4: V7, V8 | C4: =COUNTIFS(Raspodjela!$D$2:$D$105,"S3",Raspodjela!$C$2:$C$105,"<>") -> 22 | D4: =COUNTIFS(Raspodjela!$D$2:$D$105,"S3",Raspodjela!$E$2:$E$105,"student nije obvezan pohađati vježbe") -> 12 | E4: =C4+D4 -> 34
A5: UKUPNO | C5: =SUM(C2:C4) -> 89 | D5: =SUM(D2:D4) -> 15 | E5: =SUM(E2:E4) -> 104
A7: Vježbovna skupina | B7: Broj studenata | C7: Seminarska skupina
A8: V1 | B8: =COUNTIF(Raspodjela!$C$2:$C$105,"V1") -> 12 | C8: S1
A9: V2 | B9: =COUNTIF(Raspodjela!$C$2:$C$105,"V2") -> 11 | C9: S1
A10: V3 | B10: =COUNTIF(Raspodjela!$C$2:$C$105,"V3") -> 11 | C10: S1
A11: V4 | B11: =COUNTIF(Raspodjela!$C$2:$C$105,"V4") -> 11 | C11: S2
A12: V5 | B12: =COUNTIF(Raspodjela!$C$2:$C$105,"V5") -> 11 | C12: S2
A13: V6 | B13: =COUNTIF(Raspodjela!$C$2:$C$105,"V6") -> 11 | C13: S2
A14: V7 | B14: =COUNTIF(Raspodjela!$C$2:$C$105,"V7") -> 11 | C14: S3
A15: V8 | B15: =COUNTIF(Raspodjela!$C$2:$C$105,"V8") -> 11 | C15: S3
A16: UKUPNO | B16: =SUM(B8:B15) -> 89
A18: Zašto baš ovako:
A19: Raspored je složen tako da se seminari S1 nikad ne preklapaju s vježbama V1–V3, S2 s V4–V6, a S3 s V7–V8.
A20: Provjereno za svih 272 termina vježbi i 344 termina seminara/parcijala (28.9.–4.11.2026.): to je JEDINA kombinacija bez preklapanja.
A21: Npr. V7 se s S1 preklapa u 22 školska sata, V4 sa S3 u 18 — zato ne smiju ići u te seminarske skupine.
A22: S3 ima samo 2 vježbovne skupine, pa su u nju stavljeni većinom studenti koji idu samo na seminare (12 od 15) da sve tri S budu ~35.
A23: Unutar toga raspodjela je abecedna; V1 ima 12 studenata jer 89 = 8×11 + 1.

Sheet Popisi vježbe
A1: V1 (12) → S1 | D1: V2 (11) → S1 | G1: V3 (11) → S1 | J1: V4 (11) → S2 | M1: V5 (11) → S2 | P1: V6 (11) → S2 | S1: V7 (11) → S3 | V1: V8 (11) → S3
A2: Aljinović | B2: Megi | D2: Bulat | E2: Korina Matea | G2: Gijevski | H2: Mia | J2: Kerum | K2: Ante | M2: Lončar | N2: Stela | P2: Matković | Q2: Meri | S2: Pervan | T2: Sara | V2: Šeparović | W2: Nina
A3: Bajić | B3: Mia Marija | D3: Burić | E3: Antonio | G3: Gotovac | H3: Leona | J3: Kljaković Gašpić | K3: Karla | M3: Lovrić | N3: Duje Ivan | P3: Matutinović | Q3: Ivan | S3: Petković | T3: Brigita | V3: Šerić | W3: Lucija
A4: Bajramagić | B4: Mia | D4: Cenci | E4: Violetta | G4: Grančić | H4: Anastazia | J4: Kodelja | K4: Noemi | M4: Lovrić | N4: Iva | P4: Medić | Q4: Lucija | S4: Prokš | T4: Leona | V4: Šimić | W4: Jana
A5: Baković | B5: Mia | D5: Cvitković | E5: Beata | G5: Grgić | H5: Mladen | J5: Kožica | K5: Anamarija | M5: Majić | N5: Ružica | P5: Mesar | Q5: Laura | S5: Puljić | T5: Sunčica | V5: Štrljić | W5: Maroje
A6: Baković | B6: Nina | D6: Čotić Franić | E6: Iva Rahela | G6: Gudelj | H6: Ana | J6: Krešić | K6: Kiara | M6: Marijačić | N6: Antea | P6: Milardović | Q6: Iva | S6: Radić | T6: Martina | V6: Šutić | W6: Lara
A7: Barišić | B7: Mia | D7: Čulić | E7: Jelena | G7: Gulan | H7: Luka | J7: Krivić | K7: Martina | M7: Marković | N7: Jelena | P7: Mišić | Q7: Andrija | S7: Radiković | T7: Mirta | V7: Tadić | W7: Ana
A8: Batarelo | B8: Magdalena | D8: Dimzov | E8: Damjan | G8: Jakovac | H8: Tea | J8: Kurtić | K8: Ena | M8: Martinović | N8: Rino | P8: Munivrana | Q8: Leamaria | S8: Reljanović | T8: Katija | V8: Talajić | W8: Natali
A9: Bilota | B9: Manuela | D9: Dukić | E9: Andro | G9: Jović | H9: Tea Tomislava | J9: Kustura | K9: Laura | M9: Matas | N9: Filip | P9: Nižić | Q9: Ivona | S9: Ribić | T9: Simona | V9: Tanfara | W9: Ivan
A10: Birin | B10: Kristina | D10: Erceg | E10: Hana | G10: Jukić | H10: Antea | J10: Ladan | K10: Paula | M10: Mateljan | N10: Josip | P10: Omrčen | Q10: Luka | S10: Stipanović | T10: Ante | V10: Tokić | W10: Ivana
A11: Bočina | B11: Marta | D11: Gašpić | E11: Lucija | G11: Jurković | H11: Antonijo | J11: Landeka | K11: Lana | M11: Matić | N11: Ani | P11: Parčina | Q11: Helena | S11: Šare | T11: Helena | V11: Tomaš | W11: Zara
A12: Bošković | B12: Petra | D12: Gekić | E12: Max | G12: Karin | H12: Mario | J12: Leko | K12: Klara | M12: Matijašević | N12: Petra | P12: Perić | Q12: Maja | S12: Šarić | T12: Toma | V12: Zrno | W12: Ana
A13: Bračulj | B13: Hanna

Sheet Popisi seminari
A1: S1 (35) | D1: S2 (35) | G1: S3 (34)
A2: Aljinović | B2: Megi | D2: Buljan | E2: Ivana * | G2: Furjanić | H2: Ana *
A3: Bajić | B3: Mia Marija | D3: Đurić | E3: Marjeta * | G3: Gudelj | H3: Ivan *
A4: Bajramagić | B4: Mia | D4: Kerum | E4: Ante | G4: Jerković | H4: Dora *
A5: Bakotić | B5: Dorotea * | D5: Kljaković Gašpić | E5: Karla | G5: Jukić | H5: Lucija *
A6: Baković | B6: Mia | D6: Kodelja | E6: Noemi | G6: Jurić | H6: Dora *
A7: Baković | B7: Nina | D7: Kožica | E7: Anamarija | G7: Lažeta | H7: Iva *
A8: Barišić | B8: Mia | D8: Krešić | E8: Kiara | G8: Mateljan | H8: Ana *
A9: Batarelo | B9: Magdalena | D9: Krivić | E9: Martina | G9: Oreč | H9: Filip *
A10: Bilota | B10: Manuela | D10: Kurtić | E10: Ena | G10: Pervan | H10: Sara
A11: Birin | B11: Kristina | D11: Kustura | E11: Laura | G11: Petković | H11: Brigita
A12: Bočina | B12: Marta | D12: Ladan | E12: Paula | G12: Prokš | H12: Leona
A13: Bošković | B13: Petra | D13: Landeka | E13: Lana | G13: Puljić | H13: Sunčica
... A35: Jurković | B35: Antonijo | D35: Parčina | E35: Helena | G35: Zrno | H35: Ana
A36: Karin | B36: Mario | D36: Perić | E36: Maja
A40: * = student nije obvezan pohađati vježbe
